Workbook

Sheet Start here
B2: ORM 13-Week Cash Flow Forecast Template
B3: Blank template: same formulas, no numbers. Yellow cells are inputs.
B5: How it works
B6: A direct-method cash forecast: cash in and cash out by week for the next 13 weeks, Monday to Sunday.
B7: Receipts come from your open invoices (AR aging), signed and expected billings, and weighted pipeline. Disbursements come from payroll dates, open bills (AP) and weekly lines you type in.
B8: Closing cash is checked against your minimum cash line every week. Yellow cells are inputs. Everything else is a formula.
B10: Every Monday, in this order
B11: 1. Inputs: set Week 1 start to this Monday, enter opening cash from the bank (all accounts), your minimum cash line and the undrawn credit line.
B12: 2. AR aging: paste open invoices (customer, invoice, open amount, due date). The bucket, collection % and expected pay week fill in.
B13: 3. Billings and pipeline: list invoices you will send in the next 13 weeks (monthly billing, installments, renewals) and pipeline deals with close date and probability.
B14: 4. Payroll: confirm the first pay date in the window, net pay and payroll taxes per run. Overwrite a row for a bonus run.
B15: 5. AP: paste open bills with due dates. Use the pay date override column to hold or speed up a payment.
... B32: Made by ORM Technologies, orm-tech.com/tools/13-week-cash-flow-template/. Free to use and share.

Sheet 13-week cash flow
A1: 13-week cash flow forecast
A2: =IF(Inputs!B3="","Company",Inputs!B3)
A4: Week | B4: 1 | C4: 2 | D4: 3 | E4: 4 | F4: 5 | G4: 6 | H4: 7 | I4: 8 | J4: 9 | K4: 10 | L4: 11 | M4: 12 | N4: 13 | O4: Total, 13 weeks | P4: Beyond week 13 | Q4: Change vs last week's version (wks 1 to 12)
A5: Week starting (Monday) | B5: =IF(Inputs!$B$4="","",Inputs!$B$4+7*(B4-1)) | C5: =IF(Inputs!$B$4="","",Inputs!$B$4+7*(C4-1)) | D5: =IF(Inputs!$B$4="","",Inputs!$B$4+7*(D4-1)) | E5: =IF(Inputs!$B$4="","",Inputs!$B$4+7*(E4-1)) | F5: =IF(Inputs!$B$4="","",Inputs!$B$4+7*(F4-1)) | G5: =IF(Inputs!$B$4="","",Inputs!$B$4+7*(G4-1)) | H5: =IF(Inputs!$B$4="","",Inputs!$B$4+7*(H4-1)) | I5: =IF(Inputs!$B$4="","",Inputs!$B$4+7*(I4-1)) | ... N5: =IF(Inputs!$B$4="","",Inputs!$B$4+7*(N4-1))
A6: Week ending (Sunday) | B6: =IF(B5="","",B5+6) | C6: =IF(C5="","",C5+6) | D6: =IF(D5="","",D5+6) | E6: =IF(E5="","",E5+6) | F6: =IF(F5="","",F5+6) | G6: =IF(G5="","",G5+6) | H6: =IF(H5="","",H5+6) | I6: =IF(I5="","",I5+6) | ... N6: =IF(N5="","",N5+6)
A8: Opening cash | B8: =N(Inputs!B5) | C8: =B32 | D8: =C32 | E8: =D32 | F8: =E32 | G8: =F32 | H8: =G32 | I8: =H32 | J8: =I32 | ... N8: =M32 | O8: =B8
A10: RECEIPTS
A11: Collections from AR | B11: =SUMIF('AR aging'!$J$6:$J$205,B$4,'AR aging'!$K$6:$K$205) | C11: =SUMIF('AR aging'!$J$6:$J$205,C$4,'AR aging'!$K$6:$K$205) | D11: =SUMIF('AR aging'!$J$6:$J$205,D$4,'AR aging'!$K$6:$K$205) | E11: =SUMIF('AR aging'!$J$6:$J$205,E$4,'AR aging'!$K$6:$K$205) | F11: =SUMIF('AR aging'!$J$6:$J$205,F$4,'AR aging'!$K$6:$K$205) | G11: =SUMIF('AR aging'!$J$6:$J$205,G$4,'AR aging'!$K$6:$K$205) | H11: =SUMIF('AR aging'!$J$6:$J$205,H$4,'AR aging'!$K$6:$K$205) | I11: =SUMIF('AR aging'!$J$6:$J$205,I$4,'AR aging'!$K$6:$K$205) | ... N11: =SUMIF('AR aging'!$J$6:$J$205,N$4,'AR aging'!$K$6:$K$205) | O11: =SUM(B11:N11) | P11: =SUMIF('AR aging'!$J$6:$J$205,">13",'AR aging'!$K$6:$K$205) | Q11: =Variance!E26
A12: Signed and scheduled billings | B12: =SUMIFS('Billings and pipeline'!$J$6:$J$105,'Billings and pipeline'!$I$6:$I$105,B$4,'Billings and pipeline'!$A$6:$A$105,"<>Pipeline") | C12: =SUMIFS('Billings and pipeline'!$J$6:$J$105,'Billings and pipeline'!$I$6:$I$105,C$4,'Billings and pipeline'!$A$6:$A$105,"<>Pipeline") | D12: =SUMIFS('Billings and pipeline'!$J$6:$J$105,'Billings and pipeline'!$I$6:$I$105,D$4,'Billings and pipeline'!$A$6:$A$105,"<>Pipeline") | E12: =SUMIFS('Billings and pipeline'!$J$6:$J$105,'Billings and pipeline'!$I$6:$I$105,E$4,'Billings and pipeline'!$A$6:$A$105,"<>Pipeline") | F12: =SUMIFS('Billings and pipeline'!$J$6:$J$105,'Billings and pipeline'!$I$6:$I$105,F$4,'Billings and pipeline'!$A$6:$A$105,"<>Pipeline") | G12: =SUMIFS('Billings and pipeline'!$J$6:$J$105,'Billings and pipeline'!$I$6:$I$105,G$4,'Billings and pipeline'!$A$6:$A$105,"<>Pipeline") | H12: =SUMIFS('Billings and pipeline'!$J$6:$J$105,'Billings and pipeline'!$I$6:$I$105,H$4,'Billings and pipeline'!$A$6:$A$105,"<>Pipeline") | I12: =SUMIFS('Billings and pipeline'!$J$6:$J$105,'Billings and pipeline'!$I$6:$I$105,I$4,'Billings and pipeline'!$A$6:$A$105,"<>Pipeline") | ... N12: =SUMIFS('Billings and pipeline'!$J$6:$J$105,'Billings and pipeline'!$I$6:$I$105,N$4,'Billings and pipeline'!$A$6:$A$105,"<>Pipeline") | O12: =SUM(B12:N12) | P12: =SUMIFS('Billings and pipeline'!$J$6:$J$105,'Billings and pipeline'!$I$6:$I$105,">13",'Billings and pipeline'!$A$6:$A$105,"<>Pipeline") | Q12: =Variance!E27
A13: Pipeline (weighted) | B13: =SUMIFS('Billings and pipeline'!$J$6:$J$105,'Billings and pipeline'!$I$6:$I$105,B$4,'Billings and pipeline'!$A$6:$A$105,"Pipeline") | C13: =SUMIFS('Billings and pipeline'!$J$6:$J$105,'Billings and pipeline'!$I$6:$I$105,C$4,'Billings and pipeline'!$A$6:$A$105,"Pipeline") | D13: =SUMIFS('Billings and pipeline'!$J$6:$J$105,'Billings and pipeline'!$I$6:$I$105,D$4,'Billings and pipeline'!$A$6:$A$105,"Pipeline") | E13: =SUMIFS('Billings and pipeline'!$J$6:$J$105,'Billings and pipeline'!$I$6:$I$105,E$4,'Billings and pipeline'!$A$6:$A$105,"Pipeline") | F13: =SUMIFS('Billings and pipeline'!$J$6:$J$105,'Billings and pipeline'!$I$6:$I$105,F$4,'Billings and pipeline'!$A$6:$A$105,"Pipeline") | G13: =SUMIFS('Billings and pipeline'!$J$6:$J$105,'Billings and pipeline'!$I$6:$I$105,G$4,'Billings and pipeline'!$A$6:$A$105,"Pipeline") | H13: =SUMIFS('Billings and pipeline'!$J$6:$J$105,'Billings and pipeline'!$I$6:$I$105,H$4,'Billings and pipeline'!$A$6:$A$105,"Pipeline") | I13: =SUMIFS('Billings and pipeline'!$J$6:$J$105,'Billings and pipeline'!$I$6:$I$105,I$4,'Billings and pipeline'!$A$6:$A$105,"Pipeline") | ... N13: =SUMIFS('Billings and pipeline'!$J$6:$J$105,'Billings and pipeline'!$I$6:$I$105,N$4,'Billings and pipeline'!$A$6:$A$105,"Pipeline") | O13: =SUM(B13:N13) | P13: =SUMIFS('Billings and pipeline'!$J$6:$J$105,'Billings and pipeline'!$I$6:$I$105,">13",'Billings and pipeline'!$A$6:$A$105,"Pipeline") | Q13: =Variance!E28
A14: Other receipts | O14: =SUM(B14:N14) | Q14: =Variance!E29
A15: Total receipts | B15: =SUM(B11:B14) | C15: =SUM(C11:C14) | D15: =SUM(D11:D14) | E15: =SUM(E11:E14) | F15: =SUM(F11:F14) | G15: =SUM(G11:G14) | H15: =SUM(H11:H14) | I15: =SUM(I11:I14) | ... P15: =SUM(P11:P14) | Q15: =Variance!E41
A17: DISBURSEMENTS
A18: Payroll net pay | B18: =SUMIF(Payroll!$F$11:$F$17,B$4,Payroll!$C$11:$C$17) | C18: =SUMIF(Payroll!$F$11:$F$17,C$4,Payroll!$C$11:$C$17) | D18: =SUMIF(Payroll!$F$11:$F$17,D$4,Payroll!$C$11:$C$17) | E18: =SUMIF(Payroll!$F$11:$F$17,E$4,Payroll!$C$11:$C$17) | F18: =SUMIF(Payroll!$F$11:$F$17,F$4,Payroll!$C$11:$C$17) | G18: =SUMIF(Payroll!$F$11:$F$17,G$4,Payroll!$C$11:$C$17) | H18: =SUMIF(Payroll!$F$11:$F$17,H$4,Payroll!$C$11:$C$17) | I18: =SUMIF(Payroll!$F$11:$F$17,I$4,Payroll!$C$11:$C$17) | ... N18: =SUMIF(Payroll!$F$11:$F$17,N$4,Payroll!$C$11:$C$17) | O18: =SUM(B18:N18) | P18: =SUMIF(Payroll!$F$11:$F$17,">13",Payroll!$C$11:$C$17) | Q18: =Variance!E30
A19: Payroll taxes | B19: =SUMIF(Payroll!$G$11:$G$17,B$4,Payroll!$E$11:$E$17) | C19: =SUMIF(Payroll!$G$11:$G$17,C$4,Payroll!$E$11:$E$17) | D19: =SUMIF(Payroll!$G$11:$G$17,D$4,Payroll!$E$11:$E$17) | E19: =SUMIF(Payroll!$G$11:$G$17,E$4,Payroll!$E$11:$E$17) | F19: =SUMIF(Payroll!$G$11:$G$17,F$4,Payroll!$E$11:$E$17) | G19: =SUMIF(Payroll!$G$11:$G$17,G$4,Payroll!$E$11:$E$17) | H19: =SUMIF(Payroll!$G$11:$G$17,H$4,Payroll!$E$11:$E$17) | I19: =SUMIF(Payroll!$G$11:$G$17,I$4,Payroll!$E$11:$E$17) | ... N19: =SUMIF(Payroll!$G$11:$G$17,N$4,Payroll!$E$11:$E$17) | O19: =SUM(B19:N19) | P19: =SUMIF(Payroll!$G$11:$G$17,">13",Payroll!$E$11:$E$17) | Q19: =Variance!E31
A20: Benefits and insurance premiums | O20: =SUM(B20:N20) | Q20: =Variance!E32
A21: Commissions | O21: =SUM(B21:N21) | Q21: =Variance!E33
A22: Rent and facilities | O22: =SUM(B22:N22) | Q22: =Variance!E34
A23: Vendors from AP | B23: =SUMIF(AP!$G$6:$G$105,B$4,AP!$C$6:$C$105) | C23: =SUMIF(AP!$G$6:$G$105,C$4,AP!$C$6:$C$105) | D23: =SUMIF(AP!$G$6:$G$105,D$4,AP!$C$6:$C$105) | E23: =SUMIF(AP!$G$6:$G$105,E$4,AP!$C$6:$C$105) | F23: =SUMIF(AP!$G$6:$G$105,F$4,AP!$C$6:$C$105) | G23: =SUMIF(AP!$G$6:$G$105,G$4,AP!$C$6:$C$105) | H23: =SUMIF(AP!$G$6:$G$105,H$4,AP!$C$6:$C$105) | I23: =SUMIF(AP!$G$6:$G$105,I$4,AP!$C$6:$C$105) | ... N23: =SUMIF(AP!$G$6:$G$105,N$4,AP!$C$6:$C$105) | O23: =SUM(B23:N23) | P23: =SUMIF(AP!$G$6:$G$105,">13",AP!$C$6:$C$105) | Q23: =Variance!E35
A24: Recurring vendors not yet billed | O24: =SUM(B24:N24) | Q24: =Variance!E36
A25: Debt service | O25: =SUM(B25:N25) | Q25: =Variance!E37
A26: Sales and other taxes | O26: =SUM(B26:N26) | Q26: =Variance!E38
A27: Capital expenditures | O27: =SUM(B27:N27) | Q27: =Variance!E39
A28: Other and one-time | O28: =SUM(B28:N28) | Q28: =Variance!E40
A29: Total disbursements | B29: =SUM(B18:B28) | C29: =SUM(C18:C28) | D29: =SUM(D18:D28) | E29: =SUM(E18:E28) | F29: =SUM(F18:F28) | G29: =SUM(G18:G28) | H29: =SUM(H18:H28) | I29: =SUM(I18:I28) | ... P29: =SUM(P18:P28) | Q29: =Variance!E42
A31: Net cash flow | B31: =B15-B29 | C31: =C15-C29 | D31: =D15-D29 | E31: =E15-E29 | F31: =F15-F29 | G31: =G15-G29 | H31: =H15-H29 | I31: =I15-I29 | ... N31: =N15-N29 | O31: =SUM(B31:N31) | Q31: =Variance!E43
A32: Closing cash | B32: =B8+B31 | C32: =C8+C31 | D32: =D8+D31 | E32: =E8+E31 | F32: =F8+F31 | G32: =G8+G31 | H32: =H8+H31 | I32: =I8+I31 | ... N32: =N8+N31 | O32: =N32
A33: Minimum cash line | B33: =N(Inputs!$B$6) | C33: =N(Inputs!$B$6) | D33: =N(Inputs!$B$6) | E33: =N(Inputs!$B$6) | F33: =N(Inputs!$B$6) | G33: =N(Inputs!$B$6) | H33: =N(Inputs!$B$6) | I33: =N(Inputs!$B$6) | ... N33: =N(Inputs!$B$6)
A34: Cushion over minimum | B34: =B32-B33 | C34: =C32-C33 | D34: =D32-D33 | E34: =E32-E33 | F34: =F32-F33 | G34: =G32-G33 | H34: =H32-H33 | I34: =I32-I33 | ... N34: =N32-N33
A35: Status | B35: =IF(B32<B33,"BELOW MIN","OK") | C35: =IF(C32<C33,"BELOW MIN","OK") | D35: =IF(D32<D33,"BELOW MIN","OK") | E35: =IF(E32<E33,"BELOW MIN","OK") | F35: =IF(F32<F33,"BELOW MIN","OK") | G35: =IF(G32<G33,"BELOW MIN","OK") | H35: =IF(H32<H33,"BELOW MIN","OK") | I35: =IF(I32<I33,"BELOW MIN","OK") | ... N35: =IF(N32<N33,"BELOW MIN","OK")
A36: Undrawn credit line | B36: =N(Inputs!$B$7) | C36: =N(Inputs!$B$7) | D36: =N(Inputs!$B$7) | E36: =N(Inputs!$B$7) | F36: =N(Inputs!$B$7) | G36: =N(Inputs!$B$7) | H36: =N(Inputs!$B$7) | I36: =N(Inputs!$B$7) | ... N36: =N(Inputs!$B$7)
A37: Liquidity (cash + undrawn line) | B37: =B32+B36 | C37: =C32+C36 | D37: =D32+D36 | E37: =E32+E36 | F37: =F32+F36 | G37: =G32+G36 | H37: =H32+H36 | I37: =I32+I36 | ... N37: =N32+N36
A38: Helper: week if below minimum | B38: =IF(B34<0,B4,99) | C38: =IF(C34<0,C4,99) | D38: =IF(D34<0,D4,99) | E38: =IF(E34<0,E4,99) | F38: =IF(F34<0,F4,99) | G38: =IF(G34<0,G4,99) | H38: =IF(H34<0,H4,99) | I38: =IF(I34<0,I4,99) | ... N38: =IF(N34<0,N4,99)
A41: Summary
A42: Opening cash | B42: =B8
A43: Total receipts, 13 weeks | B43: =O15
A44: Total disbursements, 13 weeks | B44: =O29
A45: Closing cash, week 13 | B45: =N32
A46: Lowest closing cash | B46: =MIN(B32:N32)
A47: Lowest week | B47: =INDEX(B4:N4,MATCH(MIN(B32:N32),B32:N32,0))
...

Sheet Inputs
A1: Inputs
A3: Company | E3: Shown on the cash flow tab
A4: Week 1 start (a Monday) | E4: Usually this Monday. All weeks run Monday to Sunday.
A5: Opening cash, all bank accounts | E5: From the bank, not the ledger, at the start of week 1
A6: Minimum cash line | E6: Lender covenant or the board's floor, whichever is higher
A7: Undrawn credit line | E7: Available to draw today. Leave blank if none.
A10: AR aging buckets
A11: Bucket | B11: From days past due | C11: Collection % | D11: Days to pay
A12: Current | B12: -100000 | C12: 0.99 | D12: 5 | E12: Days to pay = days after the later of the due date and week 1 start.
A13: 1-30 | B13: 1 | C13: 0.97 | D13: 10 | E13: Replace these placeholders with your own history: what share of each bucket
A14: 31-60 | B14: 31 | C14: 0.9 | D14: 21 | E14: you actually collected, and how many days it took.
A15: 61-90 | B15: 61 | C15: 0.75 | D15: 35 | E15: Current = not yet due (days past due of zero or less).
A16: 90+ | B16: 91 | C16: 0.4 | D16: 56

Sheet AR aging
A1: AR aging: open invoices at week 1 start
A2: Paste from your billing or accounting system. Columns A to D are inputs. Week 14 or later is outside the window.
A5: Customer | B5: Invoice | C5: Open amount | D5: Due date | E5: Days past due | F5: Bucket | G5: Collection % | H5: Days to pay | I5: Expected pay date | J5: Week | K5: Expected cash | M5: Bucket | N5: Open amount | O5: Expected cash
E6: =IF(OR(C6="",D6="",Inputs!$B$4=""),"",Inputs!$B$4-D6) | F6: =IF(E6="","",INDEX(Inputs!$A$12:$A$16,MATCH(E6,Inputs!$B$12:$B$16,1))) | G6: =IF(E6="","",INDEX(Inputs!$C$12:$C$16,MATCH(E6,Inputs!$B$12:$B$16,1))) | H6: =IF(E6="","",INDEX(Inputs!$D$12:$D$16,MATCH(E6,Inputs!$B$12:$B$16,1))) | I6: =IF(E6="","",MAX(D6,Inputs!$B$4)+H6) | J6: =IF(I6="","",MAX(1,INT((I6-Inputs!$B$4)/7)+1)) | K6: =IF(E6="",0,C6*G6) | M6: =Inputs!A12 | N6: =SUMIF($F$6:$F$205,M6,$C$6:$C$205) | O6: =SUMIF($F$6:$F$205,M6,$K$6:$K$205)
E7: =IF(OR(C7="",D7="",Inputs!$B$4=""),"",Inputs!$B$4-D7) | F7: =IF(E7="","",INDEX(Inputs!$A$12:$A$16,MATCH(E7,Inputs!$B$12:$B$16,1))) | G7: =IF(E7="","",INDEX(Inputs!$C$12:$C$16,MATCH(E7,Inputs!$B$12:$B$16,1))) | H7: =IF(E7="","",INDEX(Inputs!$D$12:$D$16,MATCH(E7,Inputs!$B$12:$B$16,1))) | I7: =IF(E7="","",MAX(D7,Inputs!$B$4)+H7) | J7: =IF(I7="","",MAX(1,INT((I7-Inputs!$B$4)/7)+1)) | K7: =IF(E7="",0,C7*G7) | M7: =Inputs!A13 | N7: =SUMIF($F$6:$F$205,M7,$C$6:$C$205) | O7: =SUMIF($F$6:$F$205,M7,$K$6:$K$205)
E8: =IF(OR(C8="",D8="",Inputs!$B$4=""),"",Inputs!$B$4-D8) | F8: =IF(E8="","",INDEX(Inputs!$A$12:$A$16,MATCH(E8,Inputs!$B$12:$B$16,1))) | G8: =IF(E8="","",INDEX(Inputs!$C$12:$C$16,MATCH(E8,Inputs!$B$12:$B$16,1))) | H8: =IF(E8="","",INDEX(Inputs!$D$12:$D$16,MATCH(E8,Inputs!$B$12:$B$16,1))) | I8: =IF(E8="","",MAX(D8,Inputs!$B$4)+H8) | J8: =IF(I8="","",MAX(1,INT((I8-Inputs!$B$4)/7)+1)) | K8: =IF(E8="",0,C8*G8) | M8: =Inputs!A14 | N8: =SUMIF($F$6:$F$205,M8,$C$6:$C$205) | O8: =SUMIF($F$6:$F$205,M8,$K$6:$K$205)
E9: =IF(OR(C9="",D9="",Inputs!$B$4=""),"",Inputs!$B$4-D9) | F9: =IF(E9="","",INDEX(Inputs!$A$12:$A$16,MATCH(E9,Inputs!$B$12:$B$16,1))) | G9: =IF(E9="","",INDEX(Inputs!$C$12:$C$16,MATCH(E9,Inputs!$B$12:$B$16,1))) | H9: =IF(E9="","",INDEX(Inputs!$D$12:$D$16,MATCH(E9,Inputs!$B$12:$B$16,1))) | I9: =IF(E9="","",MAX(D9,Inputs!$B$4)+H9) | J9: =IF(I9="","",MAX(1,INT((I9-Inputs!$B$4)/7)+1)) | K9: =IF(E9="",0,C9*G9) | M9: =Inputs!A15 | N9: =SUMIF($F$6:$F$205,M9,$C$6:$C$205) | O9: =SUMIF($F$6:$F$205,M9,$K$6:$K$205)
E10: =IF(OR(C10="",D10="",Inputs!$B$4=""),"",Inputs!$B$4-D10) | F10: =IF(E10="","",INDEX(Inputs!$A$12:$A$16,MATCH(E10,Inputs!$B$12:$B$16,1))) | G10: =IF(E10="","",INDEX(Inputs!$C$12:$C$16,MATCH(E10,Inputs!$B$12:$B$16,1))) | H10: =IF(E10="","",INDEX(Inputs!$D$12:$D$16,MATCH(E10,Inputs!$B$12:$B$16,1))) | I10: =IF(E10="","",MAX(D10,Inputs!$B$4)+H10) | J10: =IF(I10="","",MAX(1,INT((I10-Inputs!$B$4)/7)+1)) | K10: =IF(E10="",0,C10*G10) | M10: =Inputs!A16 | N10: =SUMIF($F$6:$F$205,M10,$C$6:$C$205) | O10: =SUMIF($F$6:$F$205,M10,$K$6:$K$205)
E11: =IF(OR(C11="",D11="",Inputs!$B$4=""),"",Inputs!$B$4-D11) | F11: =IF(E11="","",INDEX(Inputs!$A$12:$A$16,MATCH(E11,Inputs!$B$12:$B$16,1))) | G11: =IF(E11="","",INDEX(Inputs!$C$12:$C$16,MATCH(E11,Inputs!$B$12:$B$16,1))) | H11: =IF(E11="","",INDEX(Inputs!$D$12:$D$16,MATCH(E11,Inputs!$B$12:$B$16,1))) | I11: =IF(E11="","",MAX(D11,Inputs!$B$4)+H11) | J11: =IF(I11="","",MAX(1,INT((I11-Inputs!$B$4)/7)+1)) | K11: =IF(E11="",0,C11*G11)
E12: =IF(OR(C12="",D12="",Inputs!$B$4=""),"",Inputs!$B$4-D12) | F12: =IF(E12="","",INDEX(Inputs!$A$12:$A$16,MATCH(E12,Inputs!$B$12:$B$16,1))) | G12: =IF(E12="","",INDEX(Inputs!$C$12:$C$16,MATCH(E12,Inputs!$B$12:$B$16,1))) | H12: =IF(E12="","",INDEX(Inputs!$D$12:$D$16,MATCH(E12,Inputs!$B$12:$B$16,1))) | I12: =IF(E12="","",MAX(D12,Inputs!$B$4)+H12) | J12: =IF(I12="","",MAX(1,INT((I12-Inputs!$B$4)/7)+1)) | K12: =IF(E12="",0,C12*G12)
E13: =IF(OR(C13="",D13="",Inputs!$B$4=""),"",Inputs!$B$4-D13) | F13: =IF(E13="","",INDEX(Inputs!$A$12:$A$16,MATCH(E13,Inputs!$B$12:$B$16,1))) | G13: =IF(E13="","",INDEX(Inputs!$C$12:$C$16,MATCH(E13,Inputs!$B$12:$B$16,1))) | H13: =IF(E13="","",INDEX(Inputs!$D$12:$D$16,MATCH(E13,Inputs!$B$12:$B$16,1))) | I13: =IF(E13="","",MAX(D13,Inputs!$B$4)+H13) | J13: =IF(I13="","",MAX(1,INT((I13-Inputs!$B$4)/7)+1)) | K13: =IF(E13="",0,C13*G13)
E14: =IF(OR(C14="",D14="",Inputs!$B$4=""),"",Inputs!$B$4-D14) | F14: =IF(E14="","",INDEX(Inputs!$A$12:$A$16,MATCH(E14,Inputs!$B$12:$B$16,1))) | G14: =IF(E14="","",INDEX(Inputs!$C$12:$C$16,MATCH(E14,Inputs!$B$12:$B$16,1))) | H14: =IF(E14="","",INDEX(Inputs!$D$12:$D$16,MATCH(E14,Inputs!$B$12:$B$16,1))) | I14: =IF(E14="","",MAX(D14,Inputs!$B$4)+H14) | J14: =IF(I14="","",MAX(1,INT((I14-Inputs!$B$4)/7)+1)) | K14: =IF(E14="",0,C14*G14)
E15: =IF(OR(C15="",D15="",Inputs!$B$4=""),"",Inputs!$B$4-D15) | F15: =IF(E15="","",INDEX(Inputs!$A$12:$A$16,MATCH(E15,Inputs!$B$12:$B$16,1))) | G15: =IF(E15="","",INDEX(Inputs!$C$12:$C$16,MATCH(E15,Inputs!$B$12:$B$16,1))) | H15: =IF(E15="","",INDEX(Inputs!$D$12:$D$16,MATCH(E15,Inputs!$B$12:$B$16,1))) | I15: =IF(E15="","",MAX(D15,Inputs!$B$4)+H15) | J15: =IF(I15="","",MAX(1,INT((I15-Inputs!$B$4)/7)+1)) | K15: =IF(E15="",0,C15*G15)
E16: =IF(OR(C16="",D16="",Inputs!$B$4=""),"",Inputs!$B$4-D16) | F16: =IF(E16="","",INDEX(Inputs!$A$12:$A$16,MATCH(E16,Inputs!$B$12:$B$16,1))) | G16: =IF(E16="","",INDEX(Inputs!$C$12:$C$16,MATCH(E16,Inputs!$B$12:$B$16,1))) | H16: =IF(E16="","",INDEX(Inputs!$D$12:$D$16,MATCH(E16,Inputs!$B$12:$B$16,1))) | I16: =IF(E16="","",MAX(D16,Inputs!$B$4)+H16) | J16: =IF(I16="","",MAX(1,INT((I16-Inputs!$B$4)/7)+1)) | K16: =IF(E16="",0,C16*G16)
E17: =IF(OR(C17="",D17="",Inputs!$B$4=""),"",Inputs!$B$4-D17) | F17: =IF(E17="","",INDEX(Inputs!$A$12:$A$16,MATCH(E17,Inputs!$B$12:$B$16,1))) | G17: =IF(E17="","",INDEX(Inputs!$C$12:$C$16,MATCH(E17,Inputs!$B$12:$B$16,1))) | H17: =IF(E17="","",INDEX(Inputs!$D$12:$D$16,MATCH(E17,Inputs!$B$12:$B$16,1))) | I17: =IF(E17="","",MAX(D17,Inputs!$B$4)+H17) | J17: =IF(I17="","",MAX(1,INT((I17-Inputs!$B$4)/7)+1)) | K17: =IF(E17="",0,C17*G17)
E18: =IF(OR(C18="",D18="",Inputs!$B$4=""),"",Inputs!$B$4-D18) | F18: =IF(E18="","",INDEX(Inputs!$A$12:$A$16,MATCH(E18,Inputs!$B$12:$B$16,1))) | G18: =IF(E18="","",INDEX(Inputs!$C$12:$C$16,MATCH(E18,Inputs!$B$12:$B$16,1))) | H18: =IF(E18="","",INDEX(Inputs!$D$12:$D$16,MATCH(E18,Inputs!$B$12:$B$16,1))) | I18: =IF(E18="","",MAX(D18,Inputs!$B$4)+H18) | J18: =IF(I18="","",MAX(1,INT((I18-Inputs!$B$4)/7)+1)) | K18: =IF(E18="",0,C18*G18)
E19: =IF(OR(C19="",D19="",Inputs!$B$4=""),"",Inputs!$B$4-D19) | F19: =IF(E19="","",INDEX(Inputs!$A$12:$A$16,MATCH(E19,Inputs!$B$12:$B$16,1))) | G19: =IF(E19="","",INDEX(Inputs!$C$12:$C$16,MATCH(E19,Inputs!$B$12:$B$16,1))) | H19: =IF(E19="","",INDEX(Inputs!$D$12:$D$16,MATCH(E19,Inputs!$B$12:$B$16,1))) | I19: =IF(E19="","",MAX(D19,Inputs!$B$4)+H19) | J19: =IF(I19="","",MAX(1,INT((I19-Inputs!$B$4)/7)+1)) | K19: =IF(E19="",0,C19*G19)
E20: =IF(OR(C20="",D20="",Inputs!$B$4=""),"",Inputs!$B$4-D20) | F20: =IF(E20="","",INDEX(Inputs!$A$12:$A$16,MATCH(E20,Inputs!$B$12:$B$16,1))) | G20: =IF(E20="","",INDEX(Inputs!$C$12:$C$16,MATCH(E20,Inputs!$B$12:$B$16,1))) | H20: =IF(E20="","",INDEX(Inputs!$D$12:$D$16,MATCH(E20,Inputs!$B$12:$B$16,1))) | I20: =IF(E20="","",MAX(D20,Inputs!$B$4)+H20) | J20: =IF(I20="","",MAX(1,INT((I20-Inputs!$B$4)/7)+1)) | K20: =IF(E20="",0,C20*G20)
E21: =IF(OR(C21="",D21="",Inputs!$B$4=""),"",Inputs!$B$4-D21) | F21: =IF(E21="","",INDEX(Inputs!$A$12:$A$16,MATCH(E21,Inputs!$B$12:$B$16,1))) | G21: =IF(E21="","",INDEX(Inputs!$C$12:$C$16,MATCH(E21,Inputs!$B$12:$B$16,1))) | H21: =IF(E21="","",INDEX(Inputs!$D$12:$D$16,MATCH(E21,Inputs!$B$12:$B$16,1))) | I21: =IF(E21="","",MAX(D21,Inputs!$B$4)+H21) | J21: =IF(I21="","",MAX(1,INT((I21-Inputs!$B$4)/7)+1)) | K21: =IF(E21="",0,C21*G21)
E22: =IF(OR(C22="",D22="",Inputs!$B$4=""),"",Inputs!$B$4-D22) | F22: =IF(E22="","",INDEX(Inputs!$A$12:$A$16,MATCH(E22,Inputs!$B$12:$B$16,1))) | G22: =IF(E22="","",INDEX(Inputs!$C$12:$C$16,MATCH(E22,Inputs!$B$12:$B$16,1))) | H22: =IF(E22="","",INDEX(Inputs!$D$12:$D$16,MATCH(E22,Inputs!$B$12:$B$16,1))) | I22: =IF(E22="","",MAX(D22,Inputs!$B$4)+H22) | J22: =IF(I22="","",MAX(1,INT((I22-Inputs!$B$4)/7)+1)) | K22: =IF(E22="",0,C22*G22)
... E205: =IF(OR(C205="",D205="",Inputs!$B$4=""),"",Inputs!$B$4-D205) | F205: =IF(E205="","",INDEX(Inputs!$A$12:$A$16,MATCH(E205,Inputs!$B$12:$B$16,1))) | G205: =IF(E205="","",INDEX(Inputs!$C$12:$C$16,MATCH(E205,Inputs!$B$12:$B$16,1))) | H205: =IF(E205="","",INDEX(Inputs!$D$12:$D$16,MATCH(E205,Inputs!$B$12:$B$16,1))) | I205: =IF(E205="","",MAX(D205,Inputs!$B$4)+H205) | J205: =IF(I205="","",MAX(1,INT((I205-Inputs!$B$4)/7)+1)) | K205: =IF(E205="",0,C205*G205)
A206: Total | C206: =SUM(C6:C205) | K206: =SUM(K6:K205)

Sheet Billings and pipeline
A1: Billings and pipeline: invoices you will send, and deals you expect to close
A2: Type: Signed (contracted billing: monthly runs, installments), Renewal (renewal invoice, probability below 100% for churn risk), Pipeline (open deal: use the close date and a probability). Columns A to G are inputs.
A5: Type | B5: Customer or deal | C5: Invoice or close date | D5: Amount | E5: Probability | F5: Terms (days) | G5: Days late | H5: Expected pay date | I5: Week | J5: Expected cash
H6: =IF(OR(C6="",D6=""),"",C6+F6+G6) | I6: =IF(OR(H6="",Inputs!$B$4=""),"",MAX(1,INT((H6-Inputs!$B$4)/7)+1)) | J6: =IF(H6="",0,D6*E6)
H7: =IF(OR(C7="",D7=""),"",C7+F7+G7) | I7: =IF(OR(H7="",Inputs!$B$4=""),"",MAX(1,INT((H7-Inputs!$B$4)/7)+1)) | J7: =IF(H7="",0,D7*E7)
H8: =IF(OR(C8="",D8=""),"",C8+F8+G8) | I8: =IF(OR(H8="",Inputs!$B$4=""),"",MAX(1,INT((H8-Inputs!$B$4)/7)+1)) | J8: =IF(H8="",0,D8*E8)
H9: =IF(OR(C9="",D9=""),"",C9+F9+G9) | I9: =IF(OR(H9="",Inputs!$B$4=""),"",MAX(1,INT((H9-Inputs!$B$4)/7)+1)) | J9: =IF(H9="",0,D9*E9)
H10: =IF(OR(C10="",D10=""),"",C10+F10+G10) | I10: =IF(OR(H10="",Inputs!$B$4=""),"",MAX(1,INT((H10-Inputs!$B$4)/7)+1)) | J10: =IF(H10="",0,D10*E10)
H11: =IF(OR(C11="",D11=""),"",C11+F11+G11) | I11: =IF(OR(H11="",Inputs!$B$4=""),"",MAX(1,INT((H11-Inputs!$B$4)/7)+1)) | J11: =IF(H11="",0,D11*E11)
H12: =IF(OR(C12="",D12=""),"",C12+F12+G12) | I12: =IF(OR(H12="",Inputs!$B$4=""),"",MAX(1,INT((H12-Inputs!$B$4)/7)+1)) | J12: =IF(H12="",0,D12*E12)
H13: =IF(OR(C13="",D13=""),"",C13+F13+G13) | I13: =IF(OR(H13="",Inputs!$B$4=""),"",MAX(1,INT((H13-Inputs!$B$4)/7)+1)) | J13: =IF(H13="",0,D13*E13)
H14: =IF(OR(C14="",D14=""),"",C14+F14+G14) | I14: =IF(OR(H14="",Inputs!$B$4=""),"",MAX(1,INT((H14-Inputs!$B$4)/7)+1)) | J14: =IF(H14="",0,D14*E14)
H15: =IF(OR(C15="",D15=""),"",C15+F15+G15) | I15: =IF(OR(H15="",Inputs!$B$4=""),"",MAX(1,INT((H15-Inputs!$B$4)/7)+1)) | J15: =IF(H15="",0,D15*E15)
H16: =IF(OR(C16="",D16=""),"",C16+F16+G16) | I16: =IF(OR(H16="",Inputs!$B$4=""),"",MAX(1,INT((H16-Inputs!$B$4)/7)+1)) | J16: =IF(H16="",0,D16*E16)
H17: =IF(OR(C17="",D17=""),"",C17+F17+G17) | I17: =IF(OR(H17="",Inputs!$B$4=""),"",MAX(1,INT((H17-Inputs!$B$4)/7)+1)) | J17: =IF(H17="",0,D17*E17)
... H105: =IF(OR(C105="",D105=""),"",C105+F105+G105) | I105: =IF(OR(H105="",Inputs!$B$4=""),"",MAX(1,INT((H105-Inputs!$B$4)/7)+1)) | J105: =IF(H105="",0,D105*E105)
A106: Total | D106: =SUM(D6:D105) | J106: =SUM(J6:J105)

Sheet Payroll
A1: Payroll: pay runs in the window
A3: First pay date in the window | H3: The first payday on or after week 1 start
A4: Days between pay dates | B4: 14 | H4: 14 for biweekly, 7 for weekly
A5: Net pay per run | H5: What leaves the bank on payday
A6: Payroll taxes per run | H6: Withholding plus employer taxes, deposited after payday
A7: Tax deposit lag (days after payday) | B7: 5 | H7: IRS semiweekly: Wed to Fri payday, due the following Wednesday (Pub 15)
A10: Run | B10: Pay date | C10: Net pay | D10: Tax deposit date | E10: Payroll taxes | F10: Pay week | G10: Tax week | H10: Net pay and taxes are yellow: overwrite a row for a bonus run, a raise or a new hire wave.
A11: 1 | B11: =IF($B$3="","",$B$3+(A11-1)*$B$4) | C11: =IF(B11="",0,$B$5) | D11: =IF(B11="","",B11+$B$7) | E11: =IF(B11="",0,$B$6) | F11: =IF(OR(B11="",Inputs!$B$4=""),"",INT((B11-Inputs!$B$4)/7)+1) | G11: =IF(OR(D11="",Inputs!$B$4=""),"",INT((D11-Inputs!$B$4)/7)+1)
A12: 2 | B12: =IF($B$3="","",$B$3+(A12-1)*$B$4) | C12: =IF(B12="",0,$B$5) | D12: =IF(B12="","",B12+$B$7) | E12: =IF(B12="",0,$B$6) | F12: =IF(OR(B12="",Inputs!$B$4=""),"",INT((B12-Inputs!$B$4)/7)+1) | G12: =IF(OR(D12="",Inputs!$B$4=""),"",INT((D12-Inputs!$B$4)/7)+1)
A13: 3 | B13: =IF($B$3="","",$B$3+(A13-1)*$B$4) | C13: =IF(B13="",0,$B$5) | D13: =IF(B13="","",B13+$B$7) | E13: =IF(B13="",0,$B$6) | F13: =IF(OR(B13="",Inputs!$B$4=""),"",INT((B13-Inputs!$B$4)/7)+1) | G13: =IF(OR(D13="",Inputs!$B$4=""),"",INT((D13-Inputs!$B$4)/7)+1)
A14: 4 | B14: =IF($B$3="","",$B$3+(A14-1)*$B$4) | C14: =IF(B14="",0,$B$5) | D14: =IF(B14="","",B14+$B$7) | E14: =IF(B14="",0,$B$6) | F14: =IF(OR(B14="",Inputs!$B$4=""),"",INT((B14-Inputs!$B$4)/7)+1) | G14: =IF(OR(D14="",Inputs!$B$4=""),"",INT((D14-Inputs!$B$4)/7)+1)
A15: 5 | B15: =IF($B$3="","",$B$3+(A15-1)*$B$4) | C15: =IF(B15="",0,$B$5) | D15: =IF(B15="","",B15+$B$7) | E15: =IF(B15="",0,$B$6) | F15: =IF(OR(B15="",Inputs!$B$4=""),"",INT((B15-Inputs!$B$4)/7)+1) | G15: =IF(OR(D15="",Inputs!$B$4=""),"",INT((D15-Inputs!$B$4)/7)+1)
A16: 6 | B16: =IF($B$3="","",$B$3+(A16-1)*$B$4) | C16: =IF(B16="",0,$B$5) | D16: =IF(B16="","",B16+$B$7) | E16: =IF(B16="",0,$B$6) | F16: =IF(OR(B16="",Inputs!$B$4=""),"",INT((B16-Inputs!$B$4)/7)+1) | G16: =IF(OR(D16="",Inputs!$B$4=""),"",INT((D16-Inputs!$B$4)/7)+1)
A17: 7 | B17: =IF($B$3="","",$B$3+(A17-1)*$B$4) | C17: =IF(B17="",0,$B$5) | D17: =IF(B17="","",B17+$B$7) | E17: =IF(B17="",0,$B$6) | F17: =IF(OR(B17="",Inputs!$B$4=""),"",INT((B17-Inputs!$B$4)/7)+1) | G17: =IF(OR(D17="",Inputs!$B$4=""),"",INT((D17-Inputs!$B$4)/7)+1)

Sheet AP
A1: AP: open bills and their pay dates
A2: Paste open bills. Leave the override blank to pay on the due date, or enter a date to hold or speed up a payment.
A5: Vendor | B5: Bill | C5: Amount | D5: Due date | E5: Pay date override | F5: Pay date | G5: Week
F6: =IF(C6="","",IF(E6="",D6,E6)) | G6: =IF(OR(F6="",Inputs!$B$4=""),"",MAX(1,INT((F6-Inputs!$B$4)/7)+1))
F7: =IF(C7="","",IF(E7="",D7,E7)) | G7: =IF(OR(F7="",Inputs!$B$4=""),"",MAX(1,INT((F7-Inputs!$B$4)/7)+1))
F8: =IF(C8="","",IF(E8="",D8,E8)) | G8: =IF(OR(F8="",Inputs!$B$4=""),"",MAX(1,INT((F8-Inputs!$B$4)/7)+1))
F9: =IF(C9="","",IF(E9="",D9,E9)) | G9: =IF(OR(F9="",Inputs!$B$4=""),"",MAX(1,INT((F9-Inputs!$B$4)/7)+1))
F10: =IF(C10="","",IF(E10="",D10,E10)) | G10: =IF(OR(F10="",Inputs!$B$4=""),"",MAX(1,INT((F10-Inputs!$B$4)/7)+1))
F11: =IF(C11="","",IF(E11="",D11,E11)) | G11: =IF(OR(F11="",Inputs!$B$4=""),"",MAX(1,INT((F11-Inputs!$B$4)/7)+1))
F12: =IF(C12="","",IF(E12="",D12,E12)) | G12: =IF(OR(F12="",Inputs!$B$4=""),"",MAX(1,INT((F12-Inputs!$B$4)/7)+1))
F13: =IF(C13="","",IF(E13="",D13,E13)) | G13: =IF(OR(F13="",Inputs!$B$4=""),"",MAX(1,INT((F13-Inputs!$B$4)/7)+1))
F14: =IF(C14="","",IF(E14="",D14,E14)) | G14: =IF(OR(F14="",Inputs!$B$4=""),"",MAX(1,INT((F14-Inputs!$B$4)/7)+1))
F15: =IF(C15="","",IF(E15="",D15,E15)) | G15: =IF(OR(F15="",Inputs!$B$4=""),"",MAX(1,INT((F15-Inputs!$B$4)/7)+1))
F16: =IF(C16="","",IF(E16="",D16,E16)) | G16: =IF(OR(F16="",Inputs!$B$4=""),"",MAX(1,INT((F16-Inputs!$B$4)/7)+1))
F17: =IF(C17="","",IF(E17="",D17,E17)) | G17: =IF(OR(F17="",Inputs!$B$4=""),"",MAX(1,INT((F17-Inputs!$B$4)/7)+1))
... F105: =IF(C105="","",IF(E105="",D105,E105)) | G105: =IF(OR(F105="",Inputs!$B$4=""),"",MAX(1,INT((F105-Inputs!$B$4)/7)+1))
A106: Total | C106: =SUM(C6:C105)

Sheet Variance
A1: Variance: last week's forecast vs what happened, and vs this version
A3: Week just ended: forecast vs actual
A4: Line | B4: Forecast | C4: Actual | D4: Actual - forecast | E4: Effect on cash | F4: Variance % | G4: Why (one line)
A5: Collections from AR | D5: =N(C5)-N(B5) | E5: =D5 | F5: =IF(N(B5)=0,"",D5/B5)
A6: Signed and scheduled billings | D6: =N(C6)-N(B6) | E6: =D6 | F6: =IF(N(B6)=0,"",D6/B6)
A7: Pipeline (weighted) | D7: =N(C7)-N(B7) | E7: =D7 | F7: =IF(N(B7)=0,"",D7/B7)
A8: Other receipts | D8: =N(C8)-N(B8) | E8: =D8 | F8: =IF(N(B8)=0,"",D8/B8)
A9: Payroll net pay | D9: =N(C9)-N(B9) | E9: =-D9 | F9: =IF(N(B9)=0,"",D9/B9)
A10: Payroll taxes | D10: =N(C10)-N(B10) | E10: =-D10 | F10: =IF(N(B10)=0,"",D10/B10)
A11: Benefits and insurance premiums | D11: =N(C11)-N(B11) | E11: =-D11 | F11: =IF(N(B11)=0,"",D11/B11)
A12: Commissions | D12: =N(C12)-N(B12) | E12: =-D12 | F12: =IF(N(B12)=0,"",D12/B12)
A13: Rent and facilities | D13: =N(C13)-N(B13) | E13: =-D13 | F13: =IF(N(B13)=0,"",D13/B13)
A14: Vendors from AP | D14: =N(C14)-N(B14) | E14: =-D14 | F14: =IF(N(B14)=0,"",D14/B14)
A15: Recurring vendors not yet billed | D15: =N(C15)-N(B15) | E15: =-D15 | F15: =IF(N(B15)=0,"",D15/B15)
A16: Debt service | D16: =N(C16)-N(B16) | E16: =-D16 | F16: =IF(N(B16)=0,"",D16/B16)
A17: Sales and other taxes | D17: =N(C17)-N(B17) | E17: =-D17 | F17: =IF(N(B17)=0,"",D17/B17)
A18: Capital expenditures | D18: =N(C18)-N(B18) | E18: =-D18 | F18: =IF(N(B18)=0,"",D18/B18)
A19: Other and one-time | D19: =N(C19)-N(B19) | E19: =-D19 | F19: =IF(N(B19)=0,"",D19/B19)
A20: Net effect on cash | E20: =SUM(E5:E19)
A23: This version vs last week's version: the 12 weeks both cover
A24: Last week's version weeks 2 to 13 are this version's weeks 1 to 12. Paste last week's totals for those weeks in column B.
A25: Line | B25: Last week's version | C25: This version | E25: Change | G25: Why it changed
A26: Collections from AR | C26: =SUM('13-week cash flow'!B11:M11) | E26: =IF(B26="","",C26-B26)
A27: Signed and scheduled billings | C27: =SUM('13-week cash flow'!B12:M12) | E27: =IF(B27="","",C27-B27)
A28: Pipeline (weighted) | C28: =SUM('13-week cash flow'!B13:M13) | E28: =IF(B28="","",C28-B28)
A29: Other receipts | C29: =SUM('13-week cash flow'!B14:M14) | E29: =IF(B29="","",C29-B29)
A30: Payroll net pay | C30: =SUM('13-week cash flow'!B18:M18) | E30: =IF(B30="","",C30-B30)
A31: Payroll taxes | C31: =SUM('13-week cash flow'!B19:M19) | E31: =IF(B31="","",C31-B31)
A32: Benefits and insurance premiums | C32: =SUM('13-week cash flow'!B20:M20) | E32: =IF(B32="","",C32-B32)
A33: Commissions | C33: =SUM('13-week cash flow'!B21:M21) | E33: =IF(B33="","",C33-B33)
A34: Rent and facilities | C34: =SUM('13-week cash flow'!B22:M22) | E34: =IF(B34="","",C34-B34)
A35: Vendors from AP | C35: =SUM('13-week cash flow'!B23:M23) | E35: =IF(B35="","",C35-B35)
A36: Recurring vendors not yet billed | C36: =SUM('13-week cash flow'!B24:M24) | E36: =IF(B36="","",C36-B36)
A37: Debt service | C37: =SUM('13-week cash flow'!B25:M25) | E37: =IF(B37="","",C37-B37)
A38: Sales and other taxes | C38: =SUM('13-week cash flow'!B26:M26) | E38: =IF(B38="","",C38-B38)
A39: Capital expenditures | C39: =SUM('13-week cash flow'!B27:M27) | E39: =IF(B39="","",C39-B39)
A40: Other and one-time | C40: =SUM('13-week cash flow'!B28:M28) | E40: =IF(B40="","",C40-B40)
A41: Total receipts | B41: =SUM(B26:B29) | C41: =SUM(C26:C29) | E41: =IF(COUNT(B26:B29)=0,"",C41-B41)
A42: Total disbursements | B42: =SUM(B30:B40) | C42: =SUM(C30:C40) | E42: =IF(COUNT(B30:B40)=0,"",C42-B42)
A43: Net cash flow | B43: =B41-B42 | C43: =C41-C42 | E43: =IF(COUNT(B26:B40)=0,"",C43-B43)
